BEGIN:VCALENDAR
VERSION:2.0
PRODID:-//Kings Promotions - ECPv6.15.13.1//NONSGML v1.0//EN
CALSCALE:GREGORIAN
METHOD:PUBLISH
X-WR-CALNAME:Kings Promotions
X-ORIGINAL-URL:http://kingsboxing.com
X-WR-CALDESC:Events for Kings Promotions
REFRESH-INTERVAL;VALUE=DURATION:PT1H
X-Robots-Tag:noindex
X-PUBLISHED-TTL:PT1H
BEGIN:VTIMEZONE
TZID:UTC
BEGIN:STANDARD
TZOFFSETFROM:+0000
TZOFFSETTO:+0000
TZNAME:UTC
DTSTART:20190101T000000
END:STANDARD
END:VTIMEZONE
BEGIN:VEVENT
DTSTART;TZID=UTC:20200208T180000
DTEND;TZID=UTC:20200208T210000
DTSTAMP:20260421T143923
CREATED:20200127T201846Z
LAST-MODIFIED:20200127T202048Z
UID:3116-1581184800-1581195600@kingsboxing.com
SUMMARY:PPL Center
DESCRIPTION:Purchase Tickets
URL:http://kingsboxing.com/event/ppl-center/
LOCATION:PPL Center\, 701 Hamilton St\, Allentown\, PA\, 18101\, United States
ATTACH;FMTTYPE=image/jpeg:http://kingsboxing.com/wp-content/uploads/2020/01/020820-full.jpg
END:VEVENT
BEGIN:VEVENT
DTSTART;TZID=UTC:20200214T190000
DTEND;TZID=UTC:20200214T190000
DTSTAMP:20260421T143923
CREATED:20200127T203630Z
LAST-MODIFIED:20200127T203630Z
UID:3123-1581706800-1581706800@kingsboxing.com
SUMMARY:2300 Arena
DESCRIPTION:Purchase Tickets
URL:http://kingsboxing.com/event/2300-arena-9/
LOCATION:2300 Arena\, 2300 S Swanson St\, Philadelphia\, PA\, 19148\, United States
ATTACH;FMTTYPE=image/jpeg:http://kingsboxing.com/wp-content/uploads/2020/01/021420.jpg
END:VEVENT
END:VCALENDAR