BEGIN:VCALENDAR
VERSION:2.0
PRODID:-//Kings Promotions - ECPv6.15.13.1//NONSGML v1.0//EN
CALSCALE:GREGORIAN
METHOD:PUBLISH
X-WR-CALNAME:Kings Promotions
X-ORIGINAL-URL:http://kingsboxing.com
X-WR-CALDESC:Events for Kings Promotions
REFRESH-INTERVAL;VALUE=DURATION:PT1H
X-Robots-Tag:noindex
X-PUBLISHED-TTL:PT1H
BEGIN:VTIMEZONE
TZID:UTC
BEGIN:STANDARD
TZOFFSETFROM:+0000
TZOFFSETTO:+0000
TZNAME:UTC
DTSTART:20180101T000000
END:STANDARD
END:VTIMEZONE
BEGIN:VEVENT
DTSTART;TZID=UTC:20190914T190000
DTEND;TZID=UTC:20190914T220000
DTSTAMP:20260422T002554
CREATED:20190712T145432Z
LAST-MODIFIED:20190906T180634Z
UID:2805-1568487600-1568498400@kingsboxing.com
SUMMARY:Wind Creek
DESCRIPTION:Purchase Tickets
URL:http://kingsboxing.com/event/wind-creek/
LOCATION:Wind Creek Event Center\, 77 Wind Creek Blvd\, Bethlehem\, PA\, 18015\, United States
ATTACH;FMTTYPE=image/jpeg:http://kingsboxing.com/wp-content/uploads/2019/09/9-14-flyer-update.jpg
END:VEVENT
END:VCALENDAR